BEGIN:VCALENDAR
VERSION:2.0
PRODID:-//wp-events-plugin.com//7.2.3.1//EN
TZID:Europe/Berlin
X-WR-TIMEZONE:Europe/Berlin
BEGIN:VEVENT
UID:463@ipr-akjp.de
DTSTART;TZID=Europe/Berlin:20220117T191500
DTEND;TZID=Europe/Berlin:20220117T213000
DTSTAMP:20220110T103048Z
URL:https://ipr-akjp.de/events/sexueller-missbrauch/
SUMMARY:Sexueller Missbrauch
DESCRIPTION:(Behandlungsdynamik\, Gegenübertragung\, Helfersystem)\n[KL] A
 2\, A4\nGerming\, C.\, Stanitzek\, J.\n\nLiebe Ausbildungsteilnehmer*innen
 \,\nFrau Germing und Herr Stanitzek bitten Sie im Hinblick auf das für de
 n 17. Januar angekündigte Seminar zu sexuellem Missbrauch unbedingt dafü
 r Sorge zu tragen\, dass Sie - da das Seminar im Online-Format durchgefüh
 rt werden muss - sich auch wirklich sichtbar zuschalten können. Andernfal
 ls schließen beide DozentInnen Ihre Teilnahme aus. Es handelt sich ja nic
 ht eben um eine leichte Thematik\, sodass Frau Germing und Herr Stanitzek 
 ein Mindestmaß an ein Miteinander und ein Sich-Im-Blick-Behalten gewährl
 eisten wollen.
CATEGORIES:Klinischer Kurs,Online-Seminar,Semesterprogramm,Seminar für
 IPR und IPR-AKJP zusammen,Vorklinischer Kurs
LOCATION:Online IPR AKJP\,  \,  \, Deutschland
X-APPLE-STRUCTURED-LOCATION;VALUE=URI;X-ADDRESS= \,  \, Deutschland;X-APPLE
 -RADIUS=100;X-TITLE=Online IPR AKJP:geo:0,0
END:VEVENT
BEGIN:VTIMEZONE
TZID:Europe/Berlin
X-LIC-LOCATION:Europe/Berlin
BEGIN:STANDARD
DTSTART:20211031T020000
TZOFFSETFROM:+0200
TZOFFSETTO:+0100
TZNAME:CET
END:STANDARD
END:VTIMEZONE
END:VCALENDAR