BEGIN:VCALENDAR
VERSION:2.0
PRODID:-//wp-events-plugin.com//7.2.3.1//EN
TZID:Europe/Berlin
X-WR-TIMEZONE:Europe/Berlin
BEGIN:VEVENT
UID:808@ipr-akjp.de
DTSTART;TZID=Europe/Berlin:20241028T193000
DTEND;TZID=Europe/Berlin:20241028T214500
DTSTAMP:20240819T120342Z
URL:https://ipr-akjp.de/events/psychosomatik-im-kindes-und-jugendalter-enu
 resis/
SUMMARY:Psychosomatik im Kindes- und Jugendalter: Enuresis
DESCRIPTION:[KL] A1\, A2\n\nWir befassen uns mit der Theorie zum Stöhrungs
 bild und veranschaulichen dies mittels Fallvignetten der Teilnehmenden. Li
 teratur: Burchartz\, A.: Frühe Deprivation und Enuresis In: Kinder- und J
 ugendlichenpsychotherapie(KJP) 200\, 4/2023 (Brandes&amp\;Apsel). Düwell\
 ,H.(2005): Von der Somatisierung zur Verbalisierung. In: Analytische Kinde
 r- und Jugendlichen-psychotherapie\, 127\, S. 393-416. Das Lesen der Texte
  wird vorausgesetzt\nRöseler\, A.\, Strasser\, S.
CATEGORIES:Klinischer Kurs,Semesterprogramm,Seminar für IPR und IPR-AKJP
 zusammen,Vorklinischer Kurs
LOCATION:IPR-AKJP e.V.\, Riehler Straße 23\, 50668 Köln\, NRW\, Deutschla
 nd
X-APPLE-STRUCTURED-LOCATION;VALUE=URI;X-ADDRESS=Riehler Straße 23\, 50668 
 Köln\, NRW\, Deutschland;X-APPLE-RADIUS=100;X-TITLE=IPR-AKJP e.V.:geo:0,0
END:VEVENT
BEGIN:VTIMEZONE
TZID:Europe/Berlin
X-LIC-LOCATION:Europe/Berlin
BEGIN:STANDARD
DTSTART:20241027T020000
TZOFFSETFROM:+0200
TZOFFSETTO:+0100
TZNAME:CET
END:STANDARD
END:VTIMEZONE
END:VCALENDAR