BEGIN:VCALENDAR
VERSION:2.0
PRODID:-//wp-events-plugin.com//7.2.3.1//EN
TZID:Europe/Berlin
X-WR-TIMEZONE:Europe/Berlin
BEGIN:VEVENT
UID:621@ipr-akjp.de
DTSTART;TZID=Europe/Berlin:20230208T180000
DTEND;TZID=Europe/Berlin:20230208T211500
DTSTAMP:20221212T113538Z
URL:https://ipr-akjp.de/events/psychoanalytisch-interaktionelle-gruppen-th
 erapie-moeglichkeiten-und-grenze/
SUMMARY:Psychoanalytisch-interaktionelle (Gruppen-)Therapie - Möglichkeite
 n und Grenze
DESCRIPTION:Alfred Adler Institut Düsseldorf e.V.:„Psychoanalytisch-inte
 raktionelle (Gruppen-)Therapie - Möglichkeiten und Grenzen“(A1\, A2.1\,
  A4\, A5\, A6\, A11\, B1\, B2\, B3\, B6\, B8)Dozentin: Sabrina KaracaVeran
 staltungsort: Degerstraße 10Zeit: 18:00 - 21:15 UhrAnmeldung: mind. eine 
 Woche vor dem Seminartermin per E-Mail an info@aaid.orgMax. 3 Gasthörer:i
 nnen anderer Institute.
ATTACH;FMTTYPE=image/jpeg:https://ipr-akjp.de/wp-content/uploads/2022/12/A
 AID.jpg
CATEGORIES:Klinischer Kurs,NRW Institute,Semesterprogramm,Vorklinischer
 Kurs
LOCATION:Alfred Adler Institut Düsseldorf e.V.\, Degerstraße 10\, Düssel
 dorf\, 40235\, Deutschland
X-APPLE-STRUCTURED-LOCATION;VALUE=URI;X-ADDRESS=Degerstraße 10\, Düsseldo
 rf\, 40235\, Deutschland;X-APPLE-RADIUS=100;X-TITLE=Alfred Adler Institut 
 Düsseldorf e.V.:geo:0,0
END:VEVENT
BEGIN:VTIMEZONE
TZID:Europe/Berlin
X-LIC-LOCATION:Europe/Berlin
BEGIN:STANDARD
DTSTART:20221030T020000
TZOFFSETFROM:+0200
TZOFFSETTO:+0100
TZNAME:CET
END:STANDARD
END:VTIMEZONE
END:VCALENDAR