BEGIN:VCALENDAR
VERSION:2.0
PRODID:-//wp-events-plugin.com//7.2.3.1//EN
TZID:Europe/Berlin
X-WR-TIMEZONE:Europe/Berlin
BEGIN:VEVENT
UID:336@ipr-akjp.de
DTSTART;TZID=Europe/Berlin:20200822T100000
DTEND;TZID=Europe/Berlin:20200822T113000
DTSTAMP:20200815T112337Z
URL:https://ipr-akjp.de/events/pse-teil-v/
SUMMARY:PSE (Teil V)
DESCRIPTION:BT	A9\, B3\, B4\nHadrich\, U.\, Rosiny\, K.
CATEGORIES:Klinischer Kurs,Semesterprogramm,Vorklinischer Kurs
LOCATION:Praxis Hadrich\, Theodor-Heuss-Ring 36\, Köln\, NRW\, 50668\, Deu
 tschland
X-APPLE-STRUCTURED-LOCATION;VALUE=URI;X-ADDRESS=Theodor-Heuss-Ring 36\, Kö
 ln\, NRW\, 50668\, Deutschland;X-APPLE-RADIUS=100;X-TITLE=Praxis Hadrich:g
 eo:0,0
END:VEVENT
BEGIN:VTIMEZONE
TZID:Europe/Berlin
X-LIC-LOCATION:Europe/Berlin
BEGIN:DAYLIGHT
DTSTART:20200329T030000
TZOFFSETFROM:+0100
TZOFFSETTO:+0200
TZNAME:CEST
END:DAYLIGHT
END:VTIMEZONE
END:VCALENDAR