BEGIN:VCALENDAR
VERSION:2.0
PRODID:-//wp-events-plugin.com//7.2.3.1//EN
TZID:Europe/Berlin
X-WR-TIMEZONE:Europe/Berlin
BEGIN:VEVENT
UID:210@ipr-akjp.de
DTSTART;TZID=Europe/Berlin:20200125T100000
DTEND;TZID=Europe/Berlin:20200125T151500
DTSTAMP:20190819T071725Z
URL:https://ipr-akjp.de/events/professionsspezifische-selbsterfahrung-3/
SUMMARY:Professionsspezifische Selbsterfahrung
DESCRIPTION:[BT] A9\, B3\, B4\nProfessionsspezifische Selbsterfahrung: 	\nH
 adrich\, U.\, Rosiny\, K.\n
CATEGORIES:Klinischer Kurs,Semesterprogramm,Vorklinischer Kurs
LOCATION:IPR-AKJP e.V.\, Riehler Straße 23\, 50668 Köln\, NRW\, Deutschla
 nd
X-APPLE-STRUCTURED-LOCATION;VALUE=URI;X-ADDRESS=Riehler Straße 23\, 50668 
 Köln\, NRW\, Deutschland;X-APPLE-RADIUS=100;X-TITLE=IPR-AKJP e.V.:geo:0,0
END:VEVENT
BEGIN:VTIMEZONE
TZID:Europe/Berlin
X-LIC-LOCATION:Europe/Berlin
BEGIN:STANDARD
DTSTART:20191027T020000
TZOFFSETFROM:+0200
TZOFFSETTO:+0100
TZNAME:CET
END:STANDARD
END:VTIMEZONE
END:VCALENDAR