BEGIN:VCALENDAR
VERSION:2.0
PRODID:-//wp-events-plugin.com//7.2.3.1//EN
TZID:Europe/Berlin
X-WR-TIMEZONE:Europe/Berlin
BEGIN:VEVENT
UID:904@ipr-akjp.de
DTSTART;TZID=Europe/Berlin:20250217T184500
DTEND;TZID=Europe/Berlin:20250217T213000
DTSTAMP:20250206T173636Z
URL:https://ipr-akjp.de/events/mentorat-ambulanzmeeting-3/
SUMMARY:Mentorat & Ambulanzmeeting
DESCRIPTION:[AO] B1\, B2\, B4\, B6 [BO] A10\, A11\, B2\n\nPonton\, T.
CATEGORIES:Klinischer Kurs,Semesterprogramm
LOCATION:IPR-AKJP e.V.\, Riehler Straße 23\, 50668 Köln\, NRW\, Deutschla
 nd
X-APPLE-STRUCTURED-LOCATION;VALUE=URI;X-ADDRESS=Riehler Straße 23\, 50668 
 Köln\, NRW\, Deutschland;X-APPLE-RADIUS=100;X-TITLE=IPR-AKJP e.V.:geo:0,0
END:VEVENT
BEGIN:VTIMEZONE
TZID:Europe/Berlin
X-LIC-LOCATION:Europe/Berlin
BEGIN:STANDARD
DTSTART:20241027T020000
TZOFFSETFROM:+0200
TZOFFSETTO:+0100
TZNAME:CET
END:STANDARD
END:VTIMEZONE
END:VCALENDAR