BEGIN:VCALENDAR
VERSION:2.0
PRODID:-//wp-events-plugin.com//7.2.3.1//EN
TZID:Europe/Berlin
X-WR-TIMEZONE:Europe/Berlin
BEGIN:VEVENT
UID:743@ipr-akjp.de
DTSTART;TZID=Europe/Berlin:20240307T191500
DTEND;TZID=Europe/Berlin:20240307T213000
DTSTAMP:20240222T091403Z
URL:https://ipr-akjp.de/events/lesekreis-selbstpsychologie-intersubjektivi
 taet-relationale-psychoanalyse/
SUMMARY:Lesekreis Selbstpsychologie\, Intersubjektivität\, Relationale Psy
 choanalyse
DESCRIPTION:A1\, A2\n\nHerberth\, F.\, Hötzel\, J.\, Düchting\, C.\, Moin
 i-Afchari\, U.\n\nDie Literatur zum Seminar finden Sie unter "Seminarunter
 lagen"
CATEGORIES:Klinischer Kurs,Semesterprogramm,Seminar für IPR und IPR-AKJP
 zusammen,Vorklinischer Kurs
LOCATION:IPR\, Salierring 32\, 50677 Köln\, Deutschland
X-APPLE-STRUCTURED-LOCATION;VALUE=URI;X-ADDRESS=Salierring 32\, 50677 Köln
 \, Deutschland;X-APPLE-RADIUS=100;X-TITLE=IPR:geo:0,0
END:VEVENT
BEGIN:VTIMEZONE
TZID:Europe/Berlin
X-LIC-LOCATION:Europe/Berlin
BEGIN:STANDARD
DTSTART:20231029T020000
TZOFFSETFROM:+0200
TZOFFSETTO:+0100
TZNAME:CET
END:STANDARD
END:VTIMEZONE
END:VCALENDAR