BEGIN:VCALENDAR
VERSION:2.0
PRODID:-//wp-events-plugin.com//7.2.3.1//EN
TZID:Europe/Berlin
X-WR-TIMEZONE:Europe/Berlin
BEGIN:VEVENT
UID:320@ipr-akjp.de
DTSTART;TZID=Europe/Berlin:20210107T191500
DTEND;TZID=Europe/Berlin:20210107T213000
DTSTAMP:20210104T085429Z
URL:https://ipr-akjp.de/events/kts-examen-5/
SUMMARY:KTS Examen Fr. Junker
DESCRIPTION:KTS B1\, B2\, B3\nWacker\, K.
CATEGORIES:Klinischer Kurs,Online-Seminar,Semesterprogramm
LOCATION:Online IPR AKJP\,  \,  \, Deutschland
X-APPLE-STRUCTURED-LOCATION;VALUE=URI;X-ADDRESS= \,  \, Deutschland;X-APPLE
 -RADIUS=100;X-TITLE=Online IPR AKJP:geo:0,0
END:VEVENT
BEGIN:VTIMEZONE
TZID:Europe/Berlin
X-LIC-LOCATION:Europe/Berlin
BEGIN:STANDARD
DTSTART:20201025T020000
TZOFFSETFROM:+0200
TZOFFSETTO:+0100
TZNAME:CET
END:STANDARD
END:VTIMEZONE
END:VCALENDAR