BEGIN:VCALENDAR
VERSION:2.0
PRODID:-//wp-events-plugin.com//7.2.3.1//EN
TZID:Europe/Berlin
X-WR-TIMEZONE:Europe/Berlin
BEGIN:VEVENT
UID:929@ipr-akjp.de
DTSTART;TZID=Europe/Berlin:20251104T191500
DTEND;TZID=Europe/Berlin:20251104T213000
DTSTAMP:20250827T083110Z
URL:https://ipr-akjp.de/events/entwicklung-der-psychosexualitaet-und-gesch
 lechtsidentitaet-teil-ii/
SUMMARY:Entwicklung der Psychosexualität und Geschlechtsidentität Teil II
DESCRIPTION:A1\nEntwicklung der Psychosexualität und Geschlechtsidentität
  Teil II\nim dritten und vierten Lebensjahr: Präödipale genitale Phase\n
 (Literatur: W. Mertens Band I) Referate erwünscht\nMorr\, L.\, Stanitzek\
 , J.
CATEGORIES:Klinischer Kurs,Semesterprogramm,Seminar für IPR und IPR-AKJP
 zusammen,Vorklinischer Kurs
LOCATION:IPR\, Salierring 32\, 50677 Köln\, Deutschland
X-APPLE-STRUCTURED-LOCATION;VALUE=URI;X-ADDRESS=Salierring 32\, 50677 Köln
 \, Deutschland;X-APPLE-RADIUS=100;X-TITLE=IPR:geo:0,0
END:VEVENT
BEGIN:VTIMEZONE
TZID:Europe/Berlin
X-LIC-LOCATION:Europe/Berlin
BEGIN:STANDARD
DTSTART:20251026T020000
TZOFFSETFROM:+0200
TZOFFSETTO:+0100
TZNAME:CET
END:STANDARD
END:VTIMEZONE
END:VCALENDAR