BEGIN:VCALENDAR
VERSION:2.0
PRODID:-//wp-events-plugin.com//7.2.3.1//EN
TZID:Europe/Berlin
X-WR-TIMEZONE:Europe/Berlin
BEGIN:VEVENT
UID:884@ipr-akjp.de
DTSTART;TZID=Europe/Berlin:20250513T191500
DTEND;TZID=Europe/Berlin:20250513T213000
DTSTAMP:20250206T172649Z
URL:https://ipr-akjp.de/events/entwicklung-der-psychosexualitaet-und-der-g
 eschlechteridentitaeten-teil-i/
SUMMARY:Entwicklung der Psychosexualität und der Geschlechteridentitäten 
 Teil I
DESCRIPTION:B5\n\nMorr\, L.\, Stanitzek\, J.
CATEGORIES:Klinischer Kurs,Semesterprogramm,Seminar für IPR und IPR-AKJP
 zusammen,Vorklinischer Kurs
LOCATION:IPR\, Salierring 32\, 50677 Köln\, Deutschland
X-APPLE-STRUCTURED-LOCATION;VALUE=URI;X-ADDRESS=Salierring 32\, 50677 Köln
 \, Deutschland;X-APPLE-RADIUS=100;X-TITLE=IPR:geo:0,0
END:VEVENT
BEGIN:VTIMEZONE
TZID:Europe/Berlin
X-LIC-LOCATION:Europe/Berlin
BEGIN:DAYLIGHT
DTSTART:20250330T030000
TZOFFSETFROM:+0100
TZOFFSETTO:+0200
TZNAME:CEST
END:DAYLIGHT
END:VTIMEZONE
END:VCALENDAR