BEGIN:VCALENDAR
VERSION:2.0
PRODID:-//wp-events-plugin.com//7.2.3.1//EN
TZID:Europe/Berlin
X-WR-TIMEZONE:Europe/Berlin
BEGIN:VEVENT
UID:306@ipr-akjp.de
DTSTART;TZID=Europe/Berlin:20201109T191500
DTEND;TZID=Europe/Berlin:20201109T213000
DTSTAMP:20200910T103203Z
URL:https://ipr-akjp.de/events/einfuehrung-in-die-operationalisierte-psych
 odynamische-diagnostik-opd1-schwerpunkt-konflikt-teil-1-vorklinische-wenn-
 bereits-in-der-diagnostischen-phase-grundlage-opd-kj-2-hofgrefe-2016/
SUMMARY:Einführung in die Operationalisierte Psychodynamische Diagnostik (
 OPD)1: Schwerpunkt Konflikt (Teil 1) - Vorklinische wenn bereits in der di
 agnostischen Phase. Grundlage: OPD-KJ-2: Hofgrefe 2016
DESCRIPTION:D A4\, B1\nGraetschel\, G.\, Schuh\, A.
CATEGORIES:Klinischer Kurs,Online-Seminar,Semesterprogramm,Vorklinischer
 Kurs
LOCATION:Online IPR AKJP\,  \,  \, Deutschland
X-APPLE-STRUCTURED-LOCATION;VALUE=URI;X-ADDRESS= \,  \, Deutschland;X-APPLE
 -RADIUS=100;X-TITLE=Online IPR AKJP:geo:0,0
END:VEVENT
BEGIN:VTIMEZONE
TZID:Europe/Berlin
X-LIC-LOCATION:Europe/Berlin
BEGIN:STANDARD
DTSTART:20201025T020000
TZOFFSETFROM:+0200
TZOFFSETTO:+0100
TZNAME:CET
END:STANDARD
END:VTIMEZONE
END:VCALENDAR