BEGIN:VCALENDAR
VERSION:2.0
PRODID:-//wp-events-plugin.com//7.2.3.1//EN
TZID:Europe/Berlin
X-WR-TIMEZONE:Europe/Berlin
BEGIN:VEVENT
UID:239@ipr-akjp.de
DTSTART;TZID=Europe/Berlin:20200324T191500
DTEND;TZID=Europe/Berlin:20200324T213000
DTSTAMP:20200312T095358Z
URL:https://ipr-akjp.de/events/einfuehrung-in-die-analytische-behandlungst
 heorie/
SUMMARY:Einführung in die analytische Behandlungstheorie
DESCRIPTION:[G] A1\,A2\n\nEinführung in die analytische Behandlungstheorie
 \n\nSchuh\, A.
CATEGORIES:Semesterprogramm,Seminar für IPR und IPR-AKJP
 zusammen,Vorklinischer Kurs
LOCATION:IPR-AKJP e.V.\, Riehler Straße 23\, 50668 Köln\, NRW\, Deutschla
 nd
X-APPLE-STRUCTURED-LOCATION;VALUE=URI;X-ADDRESS=Riehler Straße 23\, 50668 
 Köln\, NRW\, Deutschland;X-APPLE-RADIUS=100;X-TITLE=IPR-AKJP e.V.:geo:0,0
END:VEVENT
BEGIN:VTIMEZONE
TZID:Europe/Berlin
X-LIC-LOCATION:Europe/Berlin
BEGIN:STANDARD
DTSTART:20191027T020000
TZOFFSETFROM:+0200
TZOFFSETTO:+0100
TZNAME:CET
END:STANDARD
END:VTIMEZONE
END:VCALENDAR