BEGIN:VCALENDAR
VERSION:2.0
PRODID:-//wp-events-plugin.com//7.2.3.1//EN
TZID:Europe/Berlin
X-WR-TIMEZONE:Europe/Berlin
BEGIN:VEVENT
UID:62@ipr-akjp.de
DTSTART;TZID=Europe/Berlin:20181117T093000
DTEND;TZID=Europe/Berlin:20181117T133000
DTSTAMP:20180818T103215Z
URL:https://ipr-akjp.de/events/die-aktive-imagination-nach-c-g-jung-ein-an
 alytischer-zugang-zur-bilderwelt-der-psyche-theorie-und-praxis/
SUMMARY:Die aktive Imagination nach C.G. Jung - ein analytischer Zugang zur
  Bilderwelt der Psyche Theorie und Praxis
DESCRIPTION:K] A9\, B4\n\nLit.: Dorst\, Vogel: Aktive Imagination: Schöpfe
 risch leben aus inneren Bildern\n\nRaack\, J.
CATEGORIES:Klinischer Kurs,Seminar für IPR und IPR-AKJP
 zusammen,Vorklinischer Kurs
LOCATION:IPR\, Salierring 32\, 50677 Köln\, Deutschland
X-APPLE-STRUCTURED-LOCATION;VALUE=URI;X-ADDRESS=Salierring 32\, 50677 Köln
 \, Deutschland;X-APPLE-RADIUS=100;X-TITLE=IPR:geo:0,0
END:VEVENT
BEGIN:VTIMEZONE
TZID:Europe/Berlin
X-LIC-LOCATION:Europe/Berlin
BEGIN:STANDARD
DTSTART:20181028T020000
TZOFFSETFROM:+0200
TZOFFSETTO:+0100
TZNAME:CET
END:STANDARD
END:VTIMEZONE
END:VCALENDAR