BEGIN:VCALENDAR
VERSION:2.0
PRODID:-//wp-events-plugin.com//7.2.3.1//EN
TZID:Europe/Berlin
X-WR-TIMEZONE:Europe/Berlin
BEGIN:VEVENT
UID:909@ipr-akjp.de
DTSTART;TZID=Europe/Berlin:20250710T191500
DTEND;TZID=Europe/Berlin:20250710T213000
DTSTAMP:20250206T192212Z
URL:https://ipr-akjp.de/events/der-begriff-der-gruppenmatrix-bei-foulkes-u
 nd-die-bedeutung-fuer-die-gruppenpsychotherapie/
SUMMARY:Der Begriff der Gruppenmatrix bei Foulkes und die Bedeutung für di
 e Gruppenpsychotherapie
DESCRIPTION:B3\, B5\, B8\n\nLohmann-Mattonet\, C.
CATEGORIES:Klinischer Kurs,Semesterprogramm,Seminar für IPR und IPR-AKJP
 zusammen,Vorklinischer Kurs
LOCATION:IPR\, Salierring 32\, 50677 Köln\, Deutschland
X-APPLE-STRUCTURED-LOCATION;VALUE=URI;X-ADDRESS=Salierring 32\, 50677 Köln
 \, Deutschland;X-APPLE-RADIUS=100;X-TITLE=IPR:geo:0,0
END:VEVENT
BEGIN:VTIMEZONE
TZID:Europe/Berlin
X-LIC-LOCATION:Europe/Berlin
BEGIN:DAYLIGHT
DTSTART:20250330T030000
TZOFFSETFROM:+0100
TZOFFSETTO:+0200
TZNAME:CEST
END:DAYLIGHT
END:VTIMEZONE
END:VCALENDAR