BEGIN:VCALENDAR
VERSION:2.0
PRODID:-//wp-events-plugin.com//7.2.3.1//EN
TZID:Europe/Berlin
X-WR-TIMEZONE:Europe/Berlin
BEGIN:VEVENT
UID:183@ipr-akjp.de
DTSTART;TZID=Europe/Berlin:20190910T191500
DTEND;TZID=Europe/Berlin:20190910T213000
DTSTAMP:20190819T070043Z
URL:https://ipr-akjp.de/events/das-3-instanzenmodell-krankheitsmodelle-abw
 ehr-und-abwehrmechanismen-teil-1/
SUMMARY:Das 3 Instanzenmodell\, Krankheitsmodelle\, Abwehr und Abwehrmechan
 ismen\, Teil 1
DESCRIPTION:[G] A1\, A2\nDas 3 Instanzenmodell\, Krankheitsmodelle\, Abwehr
  und Abwehrmechanismen\, Teil 1	\nNeumann\, E.	\n
CATEGORIES:Klinischer Kurs,Semesterprogramm,Seminar für IPR und IPR-AKJP
 zusammen,Vorklinischer Kurs
LOCATION:IPR\, Salierring 32\, 50677 Köln\, Deutschland
X-APPLE-STRUCTURED-LOCATION;VALUE=URI;X-ADDRESS=Salierring 32\, 50677 Köln
 \, Deutschland;X-APPLE-RADIUS=100;X-TITLE=IPR:geo:0,0
END:VEVENT
BEGIN:VTIMEZONE
TZID:Europe/Berlin
X-LIC-LOCATION:Europe/Berlin
BEGIN:DAYLIGHT
DTSTART:20190331T030000
TZOFFSETFROM:+0100
TZOFFSETTO:+0200
TZNAME:CEST
END:DAYLIGHT
END:VTIMEZONE
END:VCALENDAR