BEGIN:VCALENDAR
VERSION:2.0
PRODID:-//wp-events-plugin.com//7.2.3.1//EN
TZID:Europe/Berlin
X-WR-TIMEZONE:Europe/Berlin
BEGIN:VEVENT
UID:622@ipr-akjp.de
DTSTART;TZID=Europe/Berlin:20230215T203000
DTEND;TZID=Europe/Berlin:20230215T220000
DTSTAMP:20230213T132421Z
URL:https://ipr-akjp.de/events/behandlungstechnische-probleme-umgang-mit-d
 estruktivem-agieren/
SUMMARY:Behandlungstechnische Probleme: Umgang mit destruktivem Agieren
DESCRIPTION:Psychoanalytische Arbeitsgemeinschaft Köln-Düsseldorf e.V.:
 „Behandlungstechnische Probleme: Umgang mit destruktivem Agieren“(A2\,
  A4)Dozentin: Ariane Schlüsener-SchönbergerVeranstaltungsort: Riehler St
 r. 23\, 50668 KölnZeit: 20:30 – 22:00 UhrAnmeldung: im Sekretariat unte
 r manuela.schaefer@psychoanalyse.koelnMax. 5 Gasthörer:innen anderer Inst
 itute.
ATTACH;FMTTYPE=image/jpeg:https://ipr-akjp.de/wp-content/uploads/2022/12/P
 sAG.jpg
CATEGORIES:NRW Institute,Semesterprogramm
LOCATION:Psychoanalytische Arbeitsgemeinschaft Köln-Düsseldorf e.V.\, Rie
 hler Str. 23\, Köln\, 50668\, Deutschland
X-APPLE-STRUCTURED-LOCATION;VALUE=URI;X-ADDRESS=Riehler Str. 23\, Köln\, 5
 0668\, Deutschland;X-APPLE-RADIUS=100;X-TITLE=Psychoanalytische Arbeitsgem
 einschaft Köln-Düsseldorf e.V.:geo:0,0
END:VEVENT
BEGIN:VTIMEZONE
TZID:Europe/Berlin
X-LIC-LOCATION:Europe/Berlin
BEGIN:STANDARD
DTSTART:20221030T020000
TZOFFSETFROM:+0200
TZOFFSETTO:+0100
TZNAME:CET
END:STANDARD
END:VTIMEZONE
END:VCALENDAR