BEGIN:VCALENDAR
VERSION:2.0
PRODID:-//wp-events-plugin.com//7.2.3.1//EN
TZID:Europe/Berlin
X-WR-TIMEZONE:Europe/Berlin
BEGIN:VEVENT
UID:862@ipr-akjp.de
DTSTART;TZID=Europe/Berlin:20241210T190000
DTEND;TZID=Europe/Berlin:20241210T214500
DTSTAMP:20240819T132449Z
URL:https://ipr-akjp.de/events/ambulanzmeeting-mentorat-3/
SUMMARY:Ambulanzmeeting & Mentorat
DESCRIPTION:[AO] B1\, B2\, B4\, B6 [BO] A10\, A11\, B2\n\nWacker\, K.
CATEGORIES:Klinischer Kurs,Semesterprogramm
LOCATION:IPR-AKJP e.V.\, Riehler Straße 23\, 50668 Köln\, NRW\, Deutschla
 nd
X-APPLE-STRUCTURED-LOCATION;VALUE=URI;X-ADDRESS=Riehler Straße 23\, 50668 
 Köln\, NRW\, Deutschland;X-APPLE-RADIUS=100;X-TITLE=IPR-AKJP e.V.:geo:0,0
END:VEVENT
BEGIN:VTIMEZONE
TZID:Europe/Berlin
X-LIC-LOCATION:Europe/Berlin
BEGIN:STANDARD
DTSTART:20241027T020000
TZOFFSETFROM:+0200
TZOFFSETTO:+0100
TZNAME:CET
END:STANDARD
END:VTIMEZONE
END:VCALENDAR