BEGIN:VCALENDAR
VERSION:2.0
PRODID:-//wp-events-plugin.com//7.2.3.1//EN
TZID:Europe/Berlin
X-WR-TIMEZONE:Europe/Berlin
BEGIN:VEVENT
UID:834@ipr-akjp.de
DTSTART;TZID=Europe/Berlin:20241107T191500
DTEND;TZID=Europe/Berlin:20241107T213000
DTSTAMP:20240819T123730Z
URL:https://ipr-akjp.de/events/abgrenzung-psychose-neurose-koerperlich-beg
 ruendbare-stoerungen/
SUMMARY:Abgrenzung Psychose\, Neurose\, körperlich begründbare Störungen
DESCRIPTION:A2.3\n\nStokowy\, M.
CATEGORIES:Semesterprogramm,Seminar für IPR und IPR-AKJP
 zusammen,Vorklinischer Kurs
LOCATION:IPR\, Salierring 32\, 50677 Köln\, Deutschland
X-APPLE-STRUCTURED-LOCATION;VALUE=URI;X-ADDRESS=Salierring 32\, 50677 Köln
 \, Deutschland;X-APPLE-RADIUS=100;X-TITLE=IPR:geo:0,0
END:VEVENT
BEGIN:VTIMEZONE
TZID:Europe/Berlin
X-LIC-LOCATION:Europe/Berlin
BEGIN:STANDARD
DTSTART:20241027T020000
TZOFFSETFROM:+0200
TZOFFSETTO:+0100
TZNAME:CET
END:STANDARD
END:VTIMEZONE
END:VCALENDAR